BEGIN:VCALENDAR
VERSION:2.0
PRODID:-//Peaks &amp; Prairies Golf Course Superintendent Association - ECPv6.15.18//NONSGML v1.0//EN
CALSCALE:GREGORIAN
METHOD:PUBLISH
X-WR-CALNAME:Peaks &amp; Prairies Golf Course Superintendent Association
X-ORIGINAL-URL:https://ppgcsa.org
X-WR-CALDESC:Events for Peaks &amp; Prairies Golf Course Superintendent Association
REFRESH-INTERVAL;VALUE=DURATION:PT1H
X-Robots-Tag:noindex
X-PUBLISHED-TTL:PT1H
BEGIN:VTIMEZONE
TZID:America/Denver
BEGIN:DAYLIGHT
TZOFFSETFROM:-0700
TZOFFSETTO:-0600
TZNAME:MDT
DTSTART:20250309T090000
END:DAYLIGHT
BEGIN:STANDARD
TZOFFSETFROM:-0600
TZOFFSETTO:-0700
TZNAME:MST
DTSTART:20251102T080000
END:STANDARD
BEGIN:DAYLIGHT
TZOFFSETFROM:-0700
TZOFFSETTO:-0600
TZNAME:MDT
DTSTART:20260308T090000
END:DAYLIGHT
BEGIN:STANDARD
TZOFFSETFROM:-0600
TZOFFSETTO:-0700
TZNAME:MST
DTSTART:20261101T080000
END:STANDARD
BEGIN:DAYLIGHT
TZOFFSETFROM:-0700
TZOFFSETTO:-0600
TZNAME:MDT
DTSTART:20270314T090000
END:DAYLIGHT
BEGIN:STANDARD
TZOFFSETFROM:-0600
TZOFFSETTO:-0700
TZNAME:MST
DTSTART:20271107T080000
END:STANDARD
END:VTIMEZONE
BEGIN:VEVENT
DTSTART;TZID=America/Denver:20260302T070000
DTEND;TZID=America/Denver:20260303T120000
DTSTAMP:20260423T231255
CREATED:20220109T192134Z
LAST-MODIFIED:20260210T022454Z
UID:1558-1772434800-1772539200@ppgcsa.org
SUMMARY:REGISTRATION is open! "Almost" Spring Meeting March 2-3\, 2026
DESCRIPTION:Join us March 2-3\, 2026  at Fairmont Hot Springs\, Anaconda\, Mont.\, for the Peaks & Prairies GCSA “Almost” Spring Meeting!  \nOur speakers offer an educational opportunity to benefit your facility on numerous levels! \n–  Our sleeping room rates are GREAT!  To ensure this great rate\, please make your reservation now – our rates have been extended to Feb 10!  Scroll below for more information. \n~ Conference Agenda: CLICK HERE \n~ Register online and request an INVOICE or PAY by debit/debit card:Click HERE \n~ Silent Auction ~ We would appreciate your donation! Complete the easy online donation form here:  CLICK HERE\n(Committee chairperson is Dustin Nelson\, Buffalo Hill) \n(2) Mont. and (2) Wyo. pesticide recertification credits available\, and 1.0 GCSAA EDUs are available. \nNOTICE OF PROPOSED DUES INCREASE: CLICK HERE \nBOARD MEMBERS: Board Meeting is on March 1\, 2026. \n~ Reserve your hotel room by February 10 to ensure this great rate: \nFairmont Hot Springs – Specify Peaks & Prairies GCSA\n1500 Fairmont Rd.\nFairmont\, MT  59711\n(406) 797-3241 / Single/Double: $132+ resort fees + tax/ Triple/Quad $147+ resort fees + tax \nSorry\, there are no meeting registration refunds after 9:00 a.m. Feb 26. \nThank you to Steiner Theusen\, PLLC\, Event Sponsor! \n \n  \n 
URL:https://ppgcsa.org/event/almost-spring-meeting/
LOCATION:Fairmont Hotsprings Resort\, 1500 Fairmont Road\, Fairmont\, MT
ATTACH;FMTTYPE=image/jpeg:https://ppgcsa.org/wp-content/uploads/2026/01/social-Banner-PP-SM-26-speakers2.jpg
END:VEVENT
END:VCALENDAR