BEGIN:VCALENDAR
VERSION:2.0
PRODID:-//Peaks &amp; Prairies Golf Course Superintendent Association - ECPv6.15.18//NONSGML v1.0//EN
CALSCALE:GREGORIAN
METHOD:PUBLISH
X-WR-CALNAME:Peaks &amp; Prairies Golf Course Superintendent Association
X-ORIGINAL-URL:https://ppgcsa.org
X-WR-CALDESC:Events for Peaks &amp; Prairies Golf Course Superintendent Association
REFRESH-INTERVAL;VALUE=DURATION:PT1H
X-Robots-Tag:noindex
X-PUBLISHED-TTL:PT1H
BEGIN:VTIMEZONE
TZID:America/Los_Angeles
BEGIN:DAYLIGHT
TZOFFSETFROM:-0800
TZOFFSETTO:-0700
TZNAME:PDT
DTSTART:20230312T100000
END:DAYLIGHT
BEGIN:STANDARD
TZOFFSETFROM:-0700
TZOFFSETTO:-0800
TZNAME:PST
DTSTART:20231105T090000
END:STANDARD
BEGIN:DAYLIGHT
TZOFFSETFROM:-0800
TZOFFSETTO:-0700
TZNAME:PDT
DTSTART:20240310T100000
END:DAYLIGHT
BEGIN:STANDARD
TZOFFSETFROM:-0700
TZOFFSETTO:-0800
TZNAME:PST
DTSTART:20241103T090000
END:STANDARD
BEGIN:DAYLIGHT
TZOFFSETFROM:-0800
TZOFFSETTO:-0700
TZNAME:PDT
DTSTART:20250309T100000
END:DAYLIGHT
BEGIN:STANDARD
TZOFFSETFROM:-0700
TZOFFSETTO:-0800
TZNAME:PST
DTSTART:20251102T090000
END:STANDARD
END:VTIMEZONE
BEGIN:VEVENT
DTSTART;TZID=America/Los_Angeles:20241120T080000
DTEND;TZID=America/Los_Angeles:20241121T130000
DTSTAMP:20260425T054212
CREATED:20170319T175628Z
LAST-MODIFIED:20240328T151456Z
UID:1819-1732089600-1732194000@ppgcsa.org
SUMMARY:Inland Empire GCSA Fall Meeting & Trade Show\, Nov 20-21\, 2024
DESCRIPTION:Join us for Inland Empire GCSA annual fall meeting and trade show… at The Centennial Hotel\, Spokane Wash. Outstanding education and trade show!  \nVisit iegcsa.org for more information late August!
URL:https://ppgcsa.org/event/inland-empire-gcsa-fall-meeting-trade-show-nov-13-14/
END:VEVENT
END:VCALENDAR