BEGIN:VCALENDAR
VERSION:2.0
PRODID:-//Peaks &amp; Prairies Golf Course Superintendent Association - ECPv6.15.18//NONSGML v1.0//EN
CALSCALE:GREGORIAN
METHOD:PUBLISH
X-ORIGINAL-URL:https://ppgcsa.org
X-WR-CALDESC:Events for Peaks &amp; Prairies Golf Course Superintendent Association
REFRESH-INTERVAL;VALUE=DURATION:PT1H
X-Robots-Tag:noindex
X-PUBLISHED-TTL:PT1H
BEGIN:VTIMEZONE
TZID:America/Los_Angeles
BEGIN:DAYLIGHT
TZOFFSETFROM:-0800
TZOFFSETTO:-0700
TZNAME:PDT
DTSTART:20260308T100000
END:DAYLIGHT
BEGIN:STANDARD
TZOFFSETFROM:-0700
TZOFFSETTO:-0800
TZNAME:PST
DTSTART:20261101T090000
END:STANDARD
BEGIN:DAYLIGHT
TZOFFSETFROM:-0800
TZOFFSETTO:-0700
TZNAME:PDT
DTSTART:20270314T100000
END:DAYLIGHT
BEGIN:STANDARD
TZOFFSETFROM:-0700
TZOFFSETTO:-0800
TZNAME:PST
DTSTART:20271107T090000
END:STANDARD
BEGIN:DAYLIGHT
TZOFFSETFROM:-0800
TZOFFSETTO:-0700
TZNAME:PDT
DTSTART:20280312T100000
END:DAYLIGHT
BEGIN:STANDARD
TZOFFSETFROM:-0700
TZOFFSETTO:-0800
TZNAME:PST
DTSTART:20281105T090000
END:STANDARD
END:VTIMEZONE
BEGIN:VTIMEZONE
TZID:America/Denver
BEGIN:DAYLIGHT
TZOFFSETFROM:-0700
TZOFFSETTO:-0600
TZNAME:MDT
DTSTART:20270314T090000
END:DAYLIGHT
BEGIN:STANDARD
TZOFFSETFROM:-0600
TZOFFSETTO:-0700
TZNAME:MST
DTSTART:20271107T080000
END:STANDARD
BEGIN:DAYLIGHT
TZOFFSETFROM:-0700
TZOFFSETTO:-0600
TZNAME:MDT
DTSTART:20280312T090000
END:DAYLIGHT
BEGIN:STANDARD
TZOFFSETFROM:-0600
TZOFFSETTO:-0700
TZNAME:MST
DTSTART:20281105T080000
END:STANDARD
BEGIN:DAYLIGHT
TZOFFSETFROM:-0700
TZOFFSETTO:-0600
TZNAME:MDT
DTSTART:20290311T090000
END:DAYLIGHT
BEGIN:STANDARD
TZOFFSETFROM:-0600
TZOFFSETTO:-0700
TZNAME:MST
DTSTART:20291104T080000
END:STANDARD
END:VTIMEZONE
BEGIN:VEVENT
DTSTART;TZID=America/Los_Angeles:20270301T070000
DTEND;TZID=America/Los_Angeles:20270302T120000
DTSTAMP:20260425T061415
CREATED:20141126T050407Z
LAST-MODIFIED:20260307T181840Z
UID:946-1803884400-1803988800@ppgcsa.org
SUMMARY:Peaks & Prairies GCSA "Almost" Spring Meeting\, March 1 & 2\, 2027
DESCRIPTION:Save the date for the 2027″Almost” Spring Meeting\, March 1 & 2\, 2027 \nRegistration will be open mid-Jan 2027. \nLocation TBD! \n(Board meeting is Feb 28)
URL:https://ppgcsa.org/event/almost-spring-meeting-helena-mont/
END:VEVENT
BEGIN:VEVENT
DTSTART;TZID=America/Denver:20280306T073000
DTEND;TZID=America/Denver:20280307T133000
DTSTAMP:20260425T061415
CREATED:20230319T123634Z
LAST-MODIFIED:20251028T180235Z
UID:1802-1835940600-1836048600@ppgcsa.org
SUMMARY:PPGCSA "Almost" Spring Meeting\, March 6 & 7\, 2028
DESCRIPTION:It is never too early to plan ahead!  Meet you in Bozeman\, Mont.\, March 6 & 7\, 2028 \nThe spring meeting is always a favorite time of year to gather\, and Bozeman is a favorite location! \nSave the date! \n  \n 
URL:https://ppgcsa.org/event/ppgcsa-almost-spring-meeting-march-5-6/
END:VEVENT
END:VCALENDAR