BEGIN:VCALENDAR
VERSION:2.0
PRODID:-//Peaks &amp; Prairies Golf Course Superintendent Association - ECPv6.15.18//NONSGML v1.0//EN
CALSCALE:GREGORIAN
METHOD:PUBLISH
X-WR-CALNAME:Peaks &amp; Prairies Golf Course Superintendent Association
X-ORIGINAL-URL:https://ppgcsa.org
X-WR-CALDESC:Events for Peaks &amp; Prairies Golf Course Superintendent Association
REFRESH-INTERVAL;VALUE=DURATION:PT1H
X-Robots-Tag:noindex
X-PUBLISHED-TTL:PT1H
BEGIN:VTIMEZONE
TZID:America/Los_Angeles
BEGIN:DAYLIGHT
TZOFFSETFROM:-0800
TZOFFSETTO:-0700
TZNAME:PDT
DTSTART:20250309T100000
END:DAYLIGHT
BEGIN:STANDARD
TZOFFSETFROM:-0700
TZOFFSETTO:-0800
TZNAME:PST
DTSTART:20251102T090000
END:STANDARD
BEGIN:DAYLIGHT
TZOFFSETFROM:-0800
TZOFFSETTO:-0700
TZNAME:PDT
DTSTART:20260308T100000
END:DAYLIGHT
BEGIN:STANDARD
TZOFFSETFROM:-0700
TZOFFSETTO:-0800
TZNAME:PST
DTSTART:20261101T090000
END:STANDARD
BEGIN:DAYLIGHT
TZOFFSETFROM:-0800
TZOFFSETTO:-0700
TZNAME:PDT
DTSTART:20270314T100000
END:DAYLIGHT
BEGIN:STANDARD
TZOFFSETFROM:-0700
TZOFFSETTO:-0800
TZNAME:PST
DTSTART:20271107T090000
END:STANDARD
BEGIN:DAYLIGHT
TZOFFSETFROM:-0800
TZOFFSETTO:-0700
TZNAME:PDT
DTSTART:20280312T100000
END:DAYLIGHT
BEGIN:STANDARD
TZOFFSETFROM:-0700
TZOFFSETTO:-0800
TZNAME:PST
DTSTART:20281105T090000
END:STANDARD
END:VTIMEZONE
BEGIN:VTIMEZONE
TZID:America/Denver
BEGIN:DAYLIGHT
TZOFFSETFROM:-0700
TZOFFSETTO:-0600
TZNAME:MDT
DTSTART:20250309T090000
END:DAYLIGHT
BEGIN:STANDARD
TZOFFSETFROM:-0600
TZOFFSETTO:-0700
TZNAME:MST
DTSTART:20251102T080000
END:STANDARD
BEGIN:DAYLIGHT
TZOFFSETFROM:-0700
TZOFFSETTO:-0600
TZNAME:MDT
DTSTART:20260308T090000
END:DAYLIGHT
BEGIN:STANDARD
TZOFFSETFROM:-0600
TZOFFSETTO:-0700
TZNAME:MST
DTSTART:20261101T080000
END:STANDARD
BEGIN:DAYLIGHT
TZOFFSETFROM:-0700
TZOFFSETTO:-0600
TZNAME:MDT
DTSTART:20270314T090000
END:DAYLIGHT
BEGIN:STANDARD
TZOFFSETFROM:-0600
TZOFFSETTO:-0700
TZNAME:MST
DTSTART:20271107T080000
END:STANDARD
BEGIN:DAYLIGHT
TZOFFSETFROM:-0700
TZOFFSETTO:-0600
TZNAME:MDT
DTSTART:20280312T090000
END:DAYLIGHT
BEGIN:STANDARD
TZOFFSETFROM:-0600
TZOFFSETTO:-0700
TZNAME:MST
DTSTART:20281105T080000
END:STANDARD
BEGIN:DAYLIGHT
TZOFFSETFROM:-0700
TZOFFSETTO:-0600
TZNAME:MDT
DTSTART:20290311T090000
END:DAYLIGHT
BEGIN:STANDARD
TZOFFSETFROM:-0600
TZOFFSETTO:-0700
TZNAME:MST
DTSTART:20291104T080000
END:STANDARD
END:VTIMEZONE
BEGIN:VTIMEZONE
TZID:America/Phoenix
BEGIN:STANDARD
TZOFFSETFROM:-0700
TZOFFSETTO:-0700
TZNAME:MST
DTSTART:20260101T000000
END:STANDARD
END:VTIMEZONE
BEGIN:VEVENT
DTSTART;TZID=America/Los_Angeles:20260420T080000
DTEND;TZID=America/Los_Angeles:20260529T170000
DTSTAMP:20260423T052309
CREATED:20241121T214616Z
LAST-MODIFIED:20260409T195324Z
UID:2024-1776672000-1780074000@ppgcsa.org
SUMMARY:Link is here to complete donation for Rounds4Research by April 15
DESCRIPTION:We need your participation in the Rounds4Research!  Please submit your donation by April 15. Auction dates are April 20-26\, 2026. \nUse this link to complete your donation online:\nhttps://www.gcsaa.org/what-we-do/foundation/rounds-4-research/r4r-online-donation-form \nWhy R4R matters\nRounds 4 Research allows GCSAA chapters and turfgrass foundations to participate as fundraising partners with the vast majority of proceeds going back to those organizations. In this way\, these organizations can direct the proceeds to specific projects that will have the most significant impact in their local areas. \nThe Rounds 4 Research program is addressing a critical shortage of funding for ongoing\, university-based agronomic research\, education\, advocacy programs and course operations. You can help foster sustainability with a donation or by bidding on rounds during the online auction. \n  \n 
URL:https://ppgcsa.org/event/link-here-to-complete-donation-for-rounds4research/
END:VEVENT
BEGIN:VEVENT
DTSTART;TZID=America/Denver:20260920T080000
DTEND;TZID=America/Denver:20260920T233000
DTSTAMP:20260423T052309
CREATED:20200701T194257Z
LAST-MODIFIED:20260307T182003Z
UID:1563-1789891200-1789947000@ppgcsa.org
SUMMARY:PPGCSA Scholarship Applications are due Sept 20 each year
DESCRIPTION:PPGCSA Scholarship Applications and all accompanying documents are due September 20! \nApplications can be completed online or you can download a PDF. Visit “Scholarship Opportunities” under the “Info” tab or CLICK HERE!
URL:https://ppgcsa.org/event/ppgcsa-scholarship-applications-are-due/
END:VEVENT
BEGIN:VEVENT
DTSTART;TZID=America/Denver:20261013T073000
DTEND;TZID=America/Denver:20261015T130000
DTSTAMP:20260423T052309
CREATED:20241117T040624Z
LAST-MODIFIED:20260330T181714Z
UID:927-1791876600-1792069200@ppgcsa.org
SUMMARY:PPGCSA 50th Anniversary Fall Meeting & Trade Show - October!
DESCRIPTION:We exist to help you provide the best playing conditions possible for your budget. Our conferences are proof of our commitment to you and your facility!   \nAnd we have been doing this for 50 years! \nEducation at the fall meeting also extends beyond the conference room with our Trade Show on October 13. \nIt is to your benefit to take advantage of the wisdom in each booth. Our allied members are there to support not only your course efforts\, but also your association and profession. \nJoin us at the Billings Hotel and Convention Center\, Billings\, Mont\, October 13-October 15\, 2026 \nRegistration material will be available in August and found right here! \nBoard meeting is October 12
URL:https://ppgcsa.org/event/peaks-prairies-gcsa-fall-meeting-trade-show-3/
LOCATION:Billings Hotel & Convention Center\, 1223 Mullowney Lane\, Billings\, MT\, 59101\, United States
END:VEVENT
BEGIN:VEVENT
DTSTART;TZID=America/Phoenix:20270120T180000
DTEND;TZID=America/Phoenix:20270120T200000
DTSTAMP:20260423T052309
CREATED:20151012T205701Z
LAST-MODIFIED:20260307T183252Z
UID:1289-1800468000-1800475200@ppgcsa.org
SUMMARY:Chapters of the Northwest Hospitality Room - Wed\, January 20\, 2027
DESCRIPTION:When in New Orleans for the GCSAA 2027 CTS…\nLet’s meet January 20\, 2027 for the Chapters of the Northwest Hospitality Room!\nIt will be another great evening with the six chapters participating!  6:00 p.m. – 8:00 p.m. \nPlease note the time change! \nMore details to come. \n  \n  \n 
URL:https://ppgcsa.org/event/chapters-of-the-northwest-hospitality-room-3/
LOCATION:Tin Roof Orlando\, 8371 International Dr.\, Orlando\, FL\, 32819
END:VEVENT
BEGIN:VEVENT
DTSTART;TZID=America/Los_Angeles:20270301T070000
DTEND;TZID=America/Los_Angeles:20270302T120000
DTSTAMP:20260423T052309
CREATED:20141126T050407Z
LAST-MODIFIED:20260307T181840Z
UID:946-1803884400-1803988800@ppgcsa.org
SUMMARY:Peaks & Prairies GCSA "Almost" Spring Meeting\, March 1 & 2\, 2027
DESCRIPTION:Save the date for the 2027″Almost” Spring Meeting\, March 1 & 2\, 2027 \nRegistration will be open mid-Jan 2027. \nLocation TBD! \n(Board meeting is Feb 28)
URL:https://ppgcsa.org/event/almost-spring-meeting-helena-mont/
END:VEVENT
BEGIN:VEVENT
DTSTART;TZID=America/Denver:20280306T073000
DTEND;TZID=America/Denver:20280307T133000
DTSTAMP:20260423T052309
CREATED:20230319T123634Z
LAST-MODIFIED:20251028T180235Z
UID:1802-1835940600-1836048600@ppgcsa.org
SUMMARY:PPGCSA "Almost" Spring Meeting\, March 6 & 7\, 2028
DESCRIPTION:It is never too early to plan ahead!  Meet you in Bozeman\, Mont.\, March 6 & 7\, 2028 \nThe spring meeting is always a favorite time of year to gather\, and Bozeman is a favorite location! \nSave the date! \n  \n 
URL:https://ppgcsa.org/event/ppgcsa-almost-spring-meeting-march-5-6/
END:VEVENT
END:VCALENDAR