BEGIN:VCALENDAR
VERSION:2.0
PRODID:-//Peaks &amp; Prairies Golf Course Superintendent Association - ECPv6.15.18//NONSGML v1.0//EN
CALSCALE:GREGORIAN
METHOD:PUBLISH
X-WR-CALNAME:Peaks &amp; Prairies Golf Course Superintendent Association
X-ORIGINAL-URL:https://ppgcsa.org
X-WR-CALDESC:Events for Peaks &amp; Prairies Golf Course Superintendent Association
REFRESH-INTERVAL;VALUE=DURATION:PT1H
X-Robots-Tag:noindex
X-PUBLISHED-TTL:PT1H
BEGIN:VTIMEZONE
TZID:America/Los_Angeles
BEGIN:DAYLIGHT
TZOFFSETFROM:-0800
TZOFFSETTO:-0700
TZNAME:PDT
DTSTART:20230312T100000
END:DAYLIGHT
BEGIN:STANDARD
TZOFFSETFROM:-0700
TZOFFSETTO:-0800
TZNAME:PST
DTSTART:20231105T090000
END:STANDARD
BEGIN:DAYLIGHT
TZOFFSETFROM:-0800
TZOFFSETTO:-0700
TZNAME:PDT
DTSTART:20240310T100000
END:DAYLIGHT
BEGIN:STANDARD
TZOFFSETFROM:-0700
TZOFFSETTO:-0800
TZNAME:PST
DTSTART:20241103T090000
END:STANDARD
BEGIN:DAYLIGHT
TZOFFSETFROM:-0800
TZOFFSETTO:-0700
TZNAME:PDT
DTSTART:20250309T100000
END:DAYLIGHT
BEGIN:STANDARD
TZOFFSETFROM:-0700
TZOFFSETTO:-0800
TZNAME:PST
DTSTART:20251102T090000
END:STANDARD
END:VTIMEZONE
BEGIN:VEVENT
DTSTART;TZID=America/Los_Angeles:20241007T073000
DTEND;TZID=America/Los_Angeles:20241008T130000
DTSTAMP:20260425T082933
CREATED:20170319T180051Z
LAST-MODIFIED:20240805T200604Z
UID:1821-1728286200-1728392400@ppgcsa.org
SUMMARY:Idaho GCSA Fall Meeting & Silent Auction\, Oct 7-8
DESCRIPTION:Join the Idaho GCSA in McCall\, ID\, at McCall Golf Course for the conference and golf!  \nHost superintendent is Eric McCormick! \nFor more information\, click here.
URL:https://ppgcsa.org/event/idaho-gcsa-fall-meeting-oct-1-2/
END:VEVENT
END:VCALENDAR