BEGIN:VCALENDAR
VERSION:2.0
PRODID:-//Peaks &amp; Prairies Golf Course Superintendent Association - ECPv6.15.18//NONSGML v1.0//EN
CALSCALE:GREGORIAN
METHOD:PUBLISH
X-ORIGINAL-URL:https://ppgcsa.org
X-WR-CALDESC:Events for Peaks &amp; Prairies Golf Course Superintendent Association
REFRESH-INTERVAL;VALUE=DURATION:PT1H
X-Robots-Tag:noindex
X-PUBLISHED-TTL:PT1H
BEGIN:VTIMEZONE
TZID:America/Los_Angeles
BEGIN:DAYLIGHT
TZOFFSETFROM:-0800
TZOFFSETTO:-0700
TZNAME:PDT
DTSTART:20230312T100000
END:DAYLIGHT
BEGIN:STANDARD
TZOFFSETFROM:-0700
TZOFFSETTO:-0800
TZNAME:PST
DTSTART:20231105T090000
END:STANDARD
BEGIN:DAYLIGHT
TZOFFSETFROM:-0800
TZOFFSETTO:-0700
TZNAME:PDT
DTSTART:20240310T100000
END:DAYLIGHT
BEGIN:STANDARD
TZOFFSETFROM:-0700
TZOFFSETTO:-0800
TZNAME:PST
DTSTART:20241103T090000
END:STANDARD
BEGIN:DAYLIGHT
TZOFFSETFROM:-0800
TZOFFSETTO:-0700
TZNAME:PDT
DTSTART:20250309T100000
END:DAYLIGHT
BEGIN:STANDARD
TZOFFSETFROM:-0700
TZOFFSETTO:-0800
TZNAME:PST
DTSTART:20251102T090000
END:STANDARD
END:VTIMEZONE
BEGIN:VEVENT
DTSTART;TZID=America/Los_Angeles:20240916T113000
DTEND;TZID=America/Los_Angeles:20240916T160000
DTSTAMP:20260425T101327
CREATED:20230117T160548Z
LAST-MODIFIED:20250613T022450Z
UID:4465-1726486200-1726502400@ppgcsa.org
SUMMARY:Sept 16 - Save the date!  Mont. Scholarship/Education Golf Event
DESCRIPTION:This perfectly timed event will take place as the days and nights get cooler! \nSeptember 16\, 2025\nBig Sky Golf Course\nBig Sky\, Mont. \n11:00 a.m. Shotgun\n4-person Scramble (partial teams and individual registrations also welcome.) \nHost superintendent\, Matt Fregley \nRegistration will be open in June! \nHole sponsors and displays are welcome! \nProceeds benefit the Peaks & Prairies GCSA Scholarship/Education programs. \n 
URL:https://ppgcsa.org/event/may-16-save-the-date-mont-scholarship-education-golf-event/
ATTACH;FMTTYPE=image/jpeg:https://ppgcsa.org/wp-content/uploads/2023/01/Big-sky-golf-course-2-feature-calendar.jpg
END:VEVENT
END:VCALENDAR